BEGIN:VCALENDAR
VERSION:2.0
PRODID:-//eventon.com NONSGML v1.0//EN
BEGIN:VEVENT
UID:69ec37df776ef
DTSTAMP:20260425T044119
DTSTART:20260520T120000Z
DTEND:20260520T215000Z
TZID:Europe/Paris
LOCATION:Espace Culturel Casadesus 2 rue Roméo Frémy
SUMMARY:Thé dansant
DESCRIPTION:     Envie de bouger et de passer un moment convivial ? Rejoignez-nous pour un Thé Dansant exceptionnel à l&#8217;espace culturel Casadesus !    C&#8217;est GRATUIT !  Et pour couronner le tout\,  une petite restauration vous attend avec thé\,  café et de délicieuses tartes faites maison. Alors n&#8217;attendez plus\,  venez[..]\nhttps://www.louvroil.fr/events/the-dansant-copy/
URL:https://www.louvroil.fr/events/the-dansant-copy/
END:VEVENT
END:VCALENDAR