BEGIN:VCALENDAR
VERSION:2.0
PRODID:-//eventon.com NONSGML v1.0//EN
BEGIN:VEVENT
UID:69e4d420a457c
DTSTAMP:20260419T140952
DTSTART:20250425T180000Z
DTEND:20250425T215000Z
TZID:Europe/Paris
LOCATION:Espace Culturel Casadesus 2 rue Roméo Frémy
SUMMARY:FLOWERS NEVER BEND | Concert Hommage à Simon & Garfunkel
DESCRIPTION: Vendredi 25 Avril 2025 / 20H   De « Mrs. Robinson » à « Cecilia » en passant par « The Sound of Silence »\,  redécouvrez l’authenticité des chansons originales de Simon & Garfunkel. Deux timbres de voix contrastés se rejoignent autour d’une guitare pour raviver l’audacieuse union entre la folk américaine et les harmonies classiques[..]\nhttps://www.louvroil.fr/events/flowers-never-bend-concert-hommage-a-simon-garfunkel/
URL:https://www.louvroil.fr/events/flowers-never-bend-concert-hommage-a-simon-garfunkel/
END:VEVENT
END:VCALENDAR