BEGIN:VCALENDAR
VERSION:2.0
PRODID:-//eventon.com NONSGML v1.0//EN
BEGIN:VEVENT
UID:69e4ec7a5878f
DTSTAMP:20260419T155346
DTSTART:20250228T190000Z
DTEND:20250228T225000Z
TZID:Europe/Paris
LOCATION:Espace Culturel Casadesus 2 rue Roméo Frémy
SUMMARY:Balaphonic et Mary May
DESCRIPTION: Balaphonic et Mary May Vendredi 28 Février 2025 / 20H Le brass band francilien est prêt à vous faire découvrir ses spécialités afro-funk\,  dans une fusion détonante d’énergie et de diversité d’ambiances. Cerise sur le gâteau : Balaphonics est accompagné par Mary May\,  étoile montante de la scène Afro-Soul francilienne\, [..]\nhttps://www.louvroil.fr/events/balaphonic-et-mary-may/
URL:https://www.louvroil.fr/events/balaphonic-et-mary-may/
END:VEVENT
END:VCALENDAR